BEGIN:VCALENDAR
VERSION:2.0
PRODID:-//eventon.com NONSGML v1.0//EN
BEGIN:VEVENT
UID:69ea4d470bad8
DTSTAMP:20260423T184807
DTSTART:20240606T160000Z
DTEND:20240606T173000Z
LOCATION:Mediothek Hüttenberg Weidenhäuser Straße 43
SUMMARY:Offener Workshop Gitarre
DESCRIPTION: Sie spielen das Instrument bereits und möchten mit anderen zusammen jammen und Neues ausprobieren? Sie möchten Gitarrespielen lernen\,  aber erstmal mal ein bisschen probieren und Tipps von anderen bekommen? Dann sind Sie in diesem freien Workshop richtig. Workshop-Termine Dies ist ein offener Treff\,  der in den Wintermonaten immer donnerstags in[..]
END:VEVENT
END:VCALENDAR