BEGIN:VCALENDAR
VERSION:2.0
PRODID:-//eventon.com NONSGML v1.0//EN
BEGIN:VEVENT
UID:69ed0f486db80
DTSTAMP:20260425T210024
DTSTART:20250102T173000Z
DTEND:20250102T190000Z
LOCATION:Dorfcafé HeckeNest Durchhardstraße / Ecke Rheinfelser Straße
SUMMARY:Offener Eltern-Treff
DESCRIPTION: Brauchen Sie mal eine Verschnaufpause im Alltagstrubel? Haben Sie Fragen zur Entwicklung Ihres Kindes? Dann kommen Sie zu uns: Wir laden alle Müer und Väter zum kostenlosen Eltern-Treff ein. Dies ist eine wunderbare Gelegenheit\,  andere Eltern kennenzulernen\,  Erfahrungen auszutauschen und gemeinsam eine gemütliche Zeit zu verbringen. &nbsp; Immer donnerstags im[..]
END:VEVENT
END:VCALENDAR