BEGIN:VCALENDAR
VERSION:2.0
PRODID:-//eventon.com NONSGML v1.0//EN
BEGIN:VEVENT
UID:69e889235a0c7
DTSTAMP:20260422T103859
DTSTART:20260311T170000Z
DTEND:20260311T215000Z
LOCATION:Mediothek Hüttenberg Weidenhäuser Straße 43
SUMMARY:LILO im März
DESCRIPTION: 
END:VEVENT
END:VCALENDAR